BEGIN:VCALENDAR
VERSION:2.0
PRODID:-//Belridge Secondary College - ECPv6.15.17.1//NONSGML v1.0//EN
CALSCALE:GREGORIAN
METHOD:PUBLISH
X-WR-CALNAME:Belridge Secondary College
X-ORIGINAL-URL:https://belridgecollege.wa.edu.au
X-WR-CALDESC:Events for Belridge Secondary College
REFRESH-INTERVAL;VALUE=DURATION:PT1H
X-Robots-Tag:noindex
X-PUBLISHED-TTL:PT1H
BEGIN:VTIMEZONE
TZID:UTC
BEGIN:STANDARD
TZOFFSETFROM:+0000
TZOFFSETTO:+0000
TZNAME:UTC
DTSTART:20240101T000000
END:STANDARD
END:VTIMEZONE
BEGIN:VEVENT
DTSTART;VALUE=DATE:20251114
DTEND;VALUE=DATE:20251115
DTSTAMP:20260421T193118
CREATED:20180921T035743Z
LAST-MODIFIED:20260326T065934Z
UID:154-1763078400-1763164799@belridgecollege.wa.edu.au
SUMMARY:Newsletters
DESCRIPTION:CLICK HERE TO SUBSCRIBE TO OUR NEWSLETTER: \nMarch 2026 – Issue 106 \nFebruary 2026 – Issue 105 \nDecember 2025 – Issue 104 \nNovember 2025 – Issue 103 \nSeptember 2025 – Issue 102 \nAugust 2025 – Issue 101 \nJune 2025 – Issue 100 \nMay 2025 – Issue 99 \nApril 2025 – Issue 98 \nMarch 2025 – Issue 97
URL:https://belridgecollege.wa.edu.au/news-events/newsletters/
CATEGORIES:News
ATTACH;FMTTYPE=image/png:https://belridgecollege.wa.edu.au/wp-content/uploads/2024/05/Newsletter-1.png
END:VEVENT
END:VCALENDAR