BEGIN:VCALENDAR
VERSION:2.0
PRODID:-//Belridge Secondary College - ECPv6.15.17.1//NONSGML v1.0//EN
CALSCALE:GREGORIAN
METHOD:PUBLISH
X-ORIGINAL-URL:https://belridgecollege.wa.edu.au
X-WR-CALDESC:Events for Belridge Secondary College
REFRESH-INTERVAL;VALUE=DURATION:PT1H
X-Robots-Tag:noindex
X-PUBLISHED-TTL:PT1H
BEGIN:VTIMEZONE
TZID:UTC
BEGIN:STANDARD
TZOFFSETFROM:+0000
TZOFFSETTO:+0000
TZNAME:UTC
DTSTART:20250101T000000
END:STANDARD
END:VTIMEZONE
BEGIN:VEVENT
DTSTART;TZID=UTC:20260401T153000
DTEND;TZID=UTC:20260401T180000
DTSTAMP:20260421T123833
CREATED:20260318T000014Z
LAST-MODIFIED:20260318T045032Z
UID:1727-1775057400-1775066400@belridgecollege.wa.edu.au
SUMMARY:Parent/Teacher Interviews
DESCRIPTION:Parent/Teacher Interviews are scheduled for Wednesday\, 1 April 2026 and will run from 3:30pm to 6:30pm. \nPLEASE NOTE CAREFULLY THE FOLLOWING BOOKING CONDITIONS: \nYears 7\, 11 and 12 – online bookings open Tuesday\, 24 March at 1:00pm\,\nAppointments will then be opened up to all year groups as from Friday\, 27 March. \nInterim reports will be issued on Thursday\, 26 March. \nYears 8\, 9 and 10 – online bookings available from Friday\, 27 March at 9:00am\nReports are scheduled to be issued at the end of Term 2. Bookings are not essential; however\, are being offered to provide an extra opportunity should you wish to connect with teachers to discuss any concerns or issues with regards to your child’s progress. \nOnline bookings can be made HERE or by following guidelines on how to make your bookings\, which has been sent via Connect. \nNote that bookings close promptly at 12 noon Wednesday\, 1 April 2026 for all year groups.  \nPlease call 9408 8000 if you require assistance with your bookings. \n 
URL:https://belridgecollege.wa.edu.au/news-events/parent-teacher-interviews/
CATEGORIES:Events,News
ATTACH;FMTTYPE=image/png:https://belridgecollege.wa.edu.au/wp-content/uploads/2024/06/Y10-Parent-Info-Night-course-selections.png
END:VEVENT
END:VCALENDAR