BEGIN:VCALENDAR
VERSION:2.0
PRODID:-//Belridge Secondary College - ECPv6.15.17.1//NONSGML v1.0//EN
CALSCALE:GREGORIAN
METHOD:PUBLISH
X-WR-CALNAME:Belridge Secondary College
X-ORIGINAL-URL:https://belridgecollege.wa.edu.au
X-WR-CALDESC:Events for Belridge Secondary College
REFRESH-INTERVAL;VALUE=DURATION:PT1H
X-Robots-Tag:noindex
X-PUBLISHED-TTL:PT1H
BEGIN:VTIMEZONE
TZID:UTC
BEGIN:STANDARD
TZOFFSETFROM:+0000
TZOFFSETTO:+0000
TZNAME:UTC
DTSTART:20250101T000000
END:STANDARD
END:VTIMEZONE
BEGIN:VEVENT
DTSTART;VALUE=DATE:20260331
DTEND;VALUE=DATE:20260401
DTSTAMP:20260421T153753
CREATED:20180925T053224Z
LAST-MODIFIED:20260129T080138Z
UID:418-1774915200-1775001599@belridgecollege.wa.edu.au
SUMMARY:Be part of our Specialist Cricket Program
DESCRIPTION:Students are invited to apply for our Year 7\, 2027 intake in our Specialist Program in Cricket. \nOur specialist program is fully approved by the Department of Education and fully endorsed by the WACA and provides boys and girls with opportunities\, including: \n\nInterstate and International tours\nCricket camps\nKim Hughes 1st XI competition\nHigh level competitions\nSenior School courses for Year 11 and 12 – Certificate III in Sport & Recreation (Cricket Studies) leading to TAFE and Diploma courses.\n\nSkill trials for Year 7\, 2027 entry are scheduled for Tuesday\, 31 March 2026.  Please complete the online ‘expression of interest’ link below. \nComplete our online expression of interest now to receive a details and an invite to participate.  \nFor more information contact Scott Ogilvie\, Cricket Coordinator\, on 0412 057 000.
URL:https://belridgecollege.wa.edu.au/news-events/cricket-skills-testing-day/
CATEGORIES:Events,News
ATTACH;FMTTYPE=image/png:https://belridgecollege.wa.edu.au/wp-content/uploads/2024/05/Specialist-Cricket-Program.png
END:VEVENT
END:VCALENDAR